Workbook
Name p_BDI: Resumo!$B$6

Sheet Resumo
A1: Construtora Modelo Ltda
A2: RESUMO DO ORÇAMENTO — ORC-2026-4384 · Residência Alto da Boa Vista — 180 m²
A3: Emissão 08/09/2026 · Competência SINAPI 06/2026 · MG · Não desonerado
A4: Cliente | B4: Construtora Horizonte Ltda
A5: Obra / Local | B5: Residência Alto da Boa Vista — Rua dos Ipês, 250 — Jardim Karaíba, Uberlândia/MG
A6: BDI (%) ⟵ edite aqui | B6: 27.03
A7: Bases de preços | B7: SINAPI 2026-06/MG · Composição própria
A8: Nº de etapas / itens | B8: 6 / 15
A9: Categoria / prazo | B9: — · prazo estimado 470 dias úteis (~94 semanas) · 08/09/2026 → 25/07/2028 (aba Gantt)
A10: Custo Direto (sem BDI) | B10: ='Sintética'!C13 -> 280425.12
A11: BDI (R$) | B11: =B12-B10 -> 75756.39
A12: PREÇO DE VENDA | B12: ='Sintética'!F13 -> 356181.51
A13: Critério de arredondamento | B13: Truncar tudo em 2 casas decimais (Padrão do TCU) · BDI no preço unitário
A14: Dica: as células AMARELAS são editáveis (BDI aqui · Qtd e Custo na Analítica · % em Parâmetros · Dias, Início e regime na aba Gantt) — tudo recalcula sozinho. A planilha é protegida só contra edição acidental (senha: raeng). Detalhes na aba Leia-me.
A17: COMPOSIÇÃO DE CUSTO (MO / MAT / EQ)
A18: Mão de obra — 47,5% | B18: 133134.52
A19: Material — 52,1% | B19: 146072.97
A20: Equipamento — 0,4% | B20: 1217.6297
A21: Procedência da quebra (15 itens): 6 pelas parcelas do item · 9 pela base analítica (06/2026/MG). Valores da emissão.
A23: COMPOSIÇÃO DO BDI — Acórdão TCU 2.622/2013
A24: AC — Administração Central | B24: 0.04
A25: S — Seguros | B25: 0.008
A26: R — Riscos | B26: 0.0097
A27: G — Garantias | B27: 0.004
A28: DF — Despesas Financeiras | B28: 0.012
A29: L — Lucro | B29: 0.08
A30: I — Impostos (PIS/COFINS/ISS/CPRB) | B30: 0.0865
A31: BDI pela fórmula TCU | B31: =(1+B24+B25+B26+B27)*(1+B28)*(1+B29)/(1-B30)-1 -> 0.27027436
A32: BDI aplicado (B6) | B32: =$B$6/100 -> 0.2703
A35: VERIFICAÇÕES AUTOMÁTICAS
A36: Cronograma fecha com o Preço de Venda | B36: =IF(ABS('Cronograma'!$X$11-B12)<=0.05,"OK","⚠ verificar") -> OK
A37: Curva ABC soma = Custo Direto | B37: =IF(ABS(SUM('Curva ABC'!$F$9:$F$23)-B10)<=0.05,"OK","⚠ verificar") -> OK
A39: RESPONSÁVEL TÉCNICO PELO ORÇAMENTO
A40: Nome | B40: Eng. João da Silva
A41: Título / Registro | B41: Engenheiro Civil · CREA-MG 000000
A42: ART/RRT | B42: [nº da ART/RRT — informar]
A43: Empresa | B43: Construtora Modelo Ltda · CNPJ 00.000.000/0001-00
A45: ___________________________________
A46: Eng. João da Silva — CREA-MG 000000

Sheet Sintética
A1: Construtora Modelo Ltda
A2: PLANILHA SINTÉTICA (por etapa) — ORC-2026-4384
A3: Cliente: Construtora Horizonte Ltda | Residência Alto da Boa Vista
A4: Bases de preços: SINAPI 2026-06/MG · Composição própria — não desonerado · Emissão: 08/09/2026
A6: Item | B6: Etapa | C6: Custo Direto | D6: BDI % | E6: BDI (R$) | F6: Preço de Venda | G6: Peso %
A7: 1.0 | B7: Serviços Preliminares | C7: =SUMIFS('Analítica'!$H$7:$H$1006,'Analítica'!$K$7:$K$1006,"1|1.0") -> 17637.2 | D7: =p_BDI -> 27.03 | E7: =F7-C7 -> 4765.65 | F7: =SUMIFS('Analítica'!$J$7:$J$1006,'Analítica'!$K$7:$K$1006,"1|1.0") -> 22402.85 | G7: =F7/$F$13 -> 0.062897285
A8: 2.0 | B8: Fundações | C8: =SUMIFS('Analítica'!$H$7:$H$1006,'Analítica'!$K$7:$K$1006,"2|2.0") -> 24048.12 | D8: =p_BDI -> 27.03 | E8: =F8-C8 -> 6499.76 | F8: =SUMIFS('Analítica'!$J$7:$J$1006,'Analítica'!$K$7:$K$1006,"2|2.0") -> 30547.88 | G8: =F8/$F$13 -> 0.085764924
A9: 3.0 | B9: Estrutura | C9: =SUMIFS('Analítica'!$H$7:$H$1006,'Analítica'!$K$7:$K$1006,"3|3.0") -> 78424 | D9: =p_BDI -> 27.03 | E9: =F9-C9 -> 21169.76 | F9: =SUMIFS('Analítica'!$J$7:$J$1006,'Analítica'!$K$7:$K$1006,"3|3.0") -> 99593.76 | G9: =F9/$F$13 -> 0.27961519
A10: 4.0 | B10: Alvenaria e Vedações | C10: =SUMIFS('Analítica'!$H$7:$H$1006,'Analítica'!$K$7:$K$1006,"4|4.0") -> 102476.4 | D10: =p_BDI -> 27.03 | E10: =F10-C10 -> 27688.2 | F10: =SUMIFS('Analítica'!$J$7:$J$1006,'Analítica'!$K$7:$K$1006,"4|4.0") -> 130164.6 | G10: =F10/$F$13 -> 0.36544457
A11: 5.0 | B11: Instalações | C11: =SUMIFS('Analítica'!$H$7:$H$1006,'Analítica'!$K$7:$K$1006,"5|5.0") -> 23244 | D11: =p_BDI -> 27.03 | E11: =F11-C11 -> 6282.42 | F11: =SUMIFS('Analítica'!$J$7:$J$1006,'Analítica'!$K$7:$K$1006,"5|5.0") -> 29526.42 | G11: =F11/$F$13 -> 0.082897116
A12: 6.0 | B12: Acabamentos | C12: =SUMIFS('Analítica'!$H$7:$H$1006,'Analítica'!$K$7:$K$1006,"6|6.0") -> 34595.4 | D12: =p_BDI -> 27.03 | E12: =F12-C12 -> 9350.6 | F12: =SUMIFS('Analítica'!$J$7:$J$1006,'Analítica'!$K$7:$K$1006,"6|6.0") -> 43946 | G12: =F12/$F$13 -> 0.12338091
B13: TOTAL | C13: =SUM(C7:C12) -> 280425.12 | E13: =F13-C13 -> 75756.39 | F13: =SUM(F7:F12) -> 356181.51

Sheet Analítica
A1: Construtora Modelo Ltda
A2: PLANILHA ORÇAMENTÁRIA ANALÍTICA — ORC-2026-4384 · Residência Alto da Boa Vista — 180 m²
A3: Cliente: Construtora Horizonte Ltda | Obra: Residência Alto da Boa Vista (Rua dos Ipês, 250 — Jardim Karaíba, Uberlândia/MG)
A4: SINAPI 2026-06/MG · Composição própria | BDI 27,03% | Não desonerado
A6: Item | B6: Código | C6: Fonte | D6: Descrição | E6: Und | F6: Qtd | G6: Custo Unit | H6: Custo Total | I6: Preço Unit c/BDI | J6: Preço Total c/BDI | K6: Etapa | L6: Memória de cálculo
A7: 1 Serviços Preliminares
A8: 1.1 | B8: 99059 | C8: SINAPI | D8: LOCAÇÃO CONVENCIONAL DE OBRA, UTILIZANDO GABARITO DE TÁBUAS CORRIDAS PONTALETADAS A CADA 2,00M - 2 UTILIZAÇÕES. AF_03/2024 | E8: m | F8: 180 | G8: 78.54 | H8: =TRUNC(F8*TRUNC(G8,2),2) -> 14137.2 | I8: =TRUNC(G8*(1+p_BDI/100),2) -> 99.76 | J8: =TRUNC(F8*I8,2) -> 17956.8 | K8: 1|1.0
A9: 1.2 | B9: — | C9: Própria | D9: Instalação provisória de canteiro (água/energia/tapume) | E9: un | F9: 1 | G9: 3500 | H9: =TRUNC(F9*TRUNC(G9,2),2) -> 3500 | I9: =TRUNC(G9*(1+p_BDI/100),2) -> 4446.05 | J9: =TRUNC(F9*I9,2) -> 4446.05 | K9: 1|1.0
D10: Subtotal — Serviços Preliminares | H10: =SUM(H8:H9) -> 17637.2 | J10: =SUM(J8:J9) -> 22402.85
A11: 2 Fundações
A12: 2.1 | B12: 96523 | C12: SINAPI | D12: ESCAVAÇÃO MANUAL PARA BLOCO DE COROAMENTO OU SAPATA (INCLUINDO ESCAVAÇÃO PARA COLOCAÇÃO DE FÔRMAS). AF_01/2024 | E12: m³ | F12: 42 | G12: 110.24 | H12: =TRUNC(F12*TRUNC(G12,2),2) -> 4630.08 | I12: =TRUNC(G12*(1+p_BDI/100),2) -> 140.03 | J12: =TRUNC(F12*I12,2) -> 5881.26 | K12: 2|2.0
A13: 2.2 | B13: — | C13: Própria | D13: Concreto magro para lastro (preparo em obra) | E13: m³ | F13: 6 | G13: 495 | H13: =TRUNC(F13*TRUNC(G13,2),2) -> 2970 | I13: =TRUNC(G13*(1+p_BDI/100),2) -> 628.79 | J13: =TRUNC(F13*I13,2) -> 3772.74 | K13: 2|2.0
A14: 2.3 | B14: 94965 | C14: SINAPI | D14: CONCRETO FCK = 25MPA, TRAÇO 1:2,3:2,7 (EM MASSA SECA DE CIMENTO/ AREIA MÉDIA/ BRITA 1) - PREPARO MECÂNICO COM BETONEIRA 400 L. AF_05/2021 | E14: m³ | F14: 28 | G14: 587.43 | H14: =TRUNC(F14*TRUNC(G14,2),2) -> 16448.04 | I14: =TRUNC(G14*(1+p_BDI/100),2) -> 746.21 | J14: =TRUNC(F14*I14,2) -> 20893.88 | K14: 2|2.0
D15: Subtotal — Fundações | H15: =SUM(H12:H14) -> 24048.12 | J15: =SUM(J12:J14) -> 30547.88
A16: 3 Estrutura
A17: 3.1 | B17: — | C17: Própria | D17: Concretagem de pilares e vigas FCK 30 (com bomba) | E17: m³ | F17: 34 | G17: 660 | H17: =TRUNC(F17*TRUNC(G17,2),2) -> 22440 | I17: =TRUNC(G17*(1+p_BDI/100),2) -> 838.39 | J17: =TRUNC(F17*I17,2) -> 28505.26 | K17: 3|3.0
A18: 3.2 | B18: 92917 | C18: SINAPI | D18: ARMAÇÃO DE ESTRUTURAS DIVERSAS DE CONCRETO ARMADO, EXCETO VIGAS, PILARES, LAJES E FUNDAÇÕES, UTILIZANDO AÇO CA-50 DE 8,0 MM - MONTAGEM. AF_06/2022 | E18: kg | F18: 2800 | G18: 13.13 | H18: =TRUNC(F18*TRUNC(G18,2),2) -> 36764 | I18: =TRUNC(G18*(1+p_BDI/100),2) -> 16.67 | J18: =TRUNC(F18*I18,2) -> 46676 | K18: 3|3.0
A19: 3.3 | B19: — | C19: Própria | D19: Forma de madeira para estrutura (3 reaproveitamentos) | E19: m² | F19: 310 | G19: 62 | H19: =TRUNC(F19*TRUNC(G19,2),2) -> 19220 | I19: =TRUNC(G19*(1+p_BDI/100),2) -> 78.75 | J19: =TRUNC(F19*I19,2) -> 24412.5 | K19: 3|3.0
D20: Subtotal — Estrutura | H20: =SUM(H17:H19) -> 78424 | J20: =SUM(J17:J19) -> 99593.76
A21: 4 Alvenaria e Vedações
A22: 4.1 | B22: 103355 | C22: SINAPI | D22: ALVENARIA DE VEDAÇÃO DE BLOCOS CERÂMICOS FURADOS NA HORIZONTAL DE 11,5X14X24 CM (ESPESSURA 11,5 CM) E ARGAMASSA DE ASSENTAMENTO COM PREPARO MANUAL. AF_12/2021 | E22: m² | F22: 420 | G22: 106.08 | H22: =TRUNC(F22*TRUNC(G22,2),2) -> 44553.6 | I22: =TRUNC(G22*(1+p_BDI/100),2) -> 134.75 | J22: =TRUNC(F22*I22,2) -> 56595 | K22: 4|4.0
A23: 4.2 | B23: 87905 | C23: SINAPI | D23: CHAPISCO APLICADO EM ALVENARIA (COM PRESENÇA DE VÃOS) E ESTRUTURAS DE CONCRETO DE FACHADA, COM COLHER DE PEDREIRO. ARGAMASSA TRAÇO 1:3 COM PREPARO EM BETONEIRA 400L. AF_10/2022 | E23: m² | F23: 780 | G23: 9.57 | H23: =TRUNC(F23*TRUNC(G23,2),2) -> 7464.6 | I23: =TRUNC(G23*(1+p_BDI/100),2) -> 12.15 | J23: =TRUNC(F23*I23,2) -> 9477 | K23: 4|4.0
A24: 4.3 | B24: 87775 | C24: SINAPI | D24: EMBOÇO OU MASSA ÚNICA EM ARGAMASSA TRAÇO 1:2:8, PREPARO MECÂNICO COM BETONEIRA 400 L, APLICADA MANUALMENTE EM PANOS DE FACHADA COM PRESENÇA DE VÃOS, ESPESSURA DE 25 MM. AF_08/2022 | E24: m² | F24: 780 | G24: 64.69 | H24: =TRUNC(F24*TRUNC(G24,2),2) -> 50458.2 | I24: =TRUNC(G24*(1+p_BDI/100),2) -> 82.17 | J24: =TRUNC(F24*I24,2) -> 64092.6 | K24: 4|4.0
D25: Subtotal — Alvenaria e Vedações | H25: =SUM(H22:H24) -> 102476.4 | J25: =SUM(J22:J24) -> 130164.6
A26: 5 Instalações
A27: 5.1 | B27: — | C27: Própria | D27: Instalações elétricas — ponto completo (tubulação+fiação+dispositivo) | E27: un | F27: 96 | G27: 142 | H27: =TRUNC(F27*TRUNC(G27,2),2) -> 13632 | I27: =TRUNC(G27*(1+p_BDI/100),2) -> 180.38 | J27: =TRUNC(F27*I27,2) -> 17316.48 | K27: 5|5.0
A28: 5.2 | B28: — | C28: Própria | D28: Instalações hidrossanitárias — ponto de água/esgoto completo | E28: un | F28: 54 | G28: 178 | H28: =TRUNC(F28*TRUNC(G28,2),2) -> 9612 | I28: =TRUNC(G28*(1+p_BDI/100),2) -> 226.11 | J28: =TRUNC(F28*I28,2) -> 12209.94 | K28: 5|5.0
D29: Subtotal — Instalações | H29: =SUM(H27:H28) -> 23244 | J29: =SUM(J27:J28) -> 29526.42
A30: 6 Acabamentos
A31: 6.1 | B31: 87263 | C31: SINAPI | D31: REVESTIMENTO CERÂMICO PARA PISO COM PLACAS TIPO PORCELANATO DE DIMENSÕES 60X60 CM APLICADA EM AMBIENTES DE ÁREA MAIOR QUE 10 M². AF_02/2023_PE | E31: m² | F31: 180 | G31: 115.99 | H31: =TRUNC(F31*TRUNC(G31,2),2) -> 20878.2 | I31: =TRUNC(G31*(1+p_BDI/100),2) -> 147.34 | J31: =TRUNC(F31*I31,2) -> 26521.2 | K31: 6|6.0
A32: 6.2 | B32: 88489 | C32: SINAPI | D32: PINTURA LÁTEX ACRÍLICA PREMIUM, APLICAÇÃO MANUAL EM PAREDES, DUAS DEMÃOS. AF_04/2023 | E32: m² | F32: 920 | G32: 14.91 | H32: =TRUNC(F32*TRUNC(G32,2),2) -> 13717.2 | I32: =TRUNC(G32*(1+p_BDI/100),2) -> 18.94 | J32: =TRUNC(F32*I32,2) -> 17424.8 | K32: 6|6.0
D33: Subtotal — Acabamentos | H33: =SUM(H31:H32) -> 34595.4 | J33: =SUM(J31:J32) -> 43946
D35: CUSTO DIRETO (sem BDI) | H35: =H10+H15+H20+H25+H29+H33 -> 280425.12
D36: BDI (27,03%) — já embutido nos preços unitários | H36: =H37-H35 -> 75756.39
D37: PREÇO DE VENDA (com BDI) | H37: =J10+J15+J20+J25+J29+J33 -> 356181.51

Sheet Parâmetros
A1: Construtora Modelo Ltda
A2: PARÂMETROS — MATRIZ DE DESEMBOLSO (22 meses) — ORC-2026-4384
A3: Edite os % (células amarelas): o Cronograma e a Curva S recalculam sozinhos. Cada linha deve somar 100% — a coluna Check avisa.
A5: Etapa | B5: set/26 | C5: out/26 | D5: nov/26 | E5: dez/26 | F5: jan/27 | G5: fev/27 | H5: mar/27 | I5: abr/27 | J5: mai/27 | K5: jun/27 | L5: jul/27 | M5: ago/27 | N5: set/27 | O5: out/27 | P5: nov/27 | Q5: dez/27 | R5: jan/28 | S5: fev/28 | T5: mar/28 | U5: abr/28 | V5: mai/28 | W5: jun/28+ | X5: Soma | Y5: Check
A6: 1.0 Serviços Preliminares | B6: 1 | C6: 0 | D6: 0 | E6: 0 | F6: 0 | G6: 0 | H6: 0 | I6: 0 | J6: 0 | K6: 0 | L6: 0 | M6: 0 | N6: 0 | O6: 0 | P6: 0 | Q6: 0 | R6: 0 | S6: 0 | T6: 0 | U6: 0 | V6: 0 | W6: 0 | X6: =SUM(B6:W6) -> 1 | Y6: =IF(ABS(X6-1)>0.001,"⚠ ≠100%","OK") -> OK
A7: 2.0 Fundações | B7: 1 | C7: 0 | D7: 0 | E7: 0 | F7: 0 | G7: 0 | H7: 0 | I7: 0 | J7: 0 | K7: 0 | L7: 0 | M7: 0 | N7: 0 | O7: 0 | P7: 0 | Q7: 0 | R7: 0 | S7: 0 | T7: 0 | U7: 0 | V7: 0 | W7: 0 | X7: =SUM(B7:W7) -> 1 | Y7: =IF(ABS(X7-1)>0.001,"⚠ ≠100%","OK") -> OK
A8: 3.0 Estrutura | B8: 0.0057142857 | C8: 0.06 | D8: 0.054285714 | E8: 0.062857143 | F8: 0.057142857 | G8: 0.051428571 | H8: 0.062857143 | I8: 0.06 | J8: 0.057142857 | K8: 0.062857143 | L8: 0.062857143 | M8: 0.062857143 | N8: 0.06 | O8: 0.057142857 | P8: 0.057142857 | Q8: 0.065714286 | R8: 0.06 | S8: 0.04 | T8: 0 | U8: 0 | V8: 0 | W8: 0 | X8: =SUM(B8:W8) -> 1 | Y8: =IF(ABS(X8-1)>0.001,"⚠ ≠100%","OK") -> OK
A9: 4.0 Alvenaria e Vedações | B9: 0 | C9: 0 | D9: 0 | E9: 0 | F9: 0 | G9: 0 | H9: 0 | I9: 0 | J9: 0 | K9: 0 | L9: 0 | M9: 0 | N9: 0 | O9: 0 | P9: 0 | Q9: 0.1328125 | R9: 0.1640625 | S9: 0.1484375 | T9: 0.1796875 | U9: 0.140625 | V9: 0.171875 | W9: 0.0625 | X9: =SUM(B9:W9) -> 1 | Y9: =IF(ABS(X9-1)>0.001,"⚠ ≠100%","OK") -> OK
A10: 5.0 Instalações | B10: 0 | C10: 0 | D10: 0 | E10: 0 | F10: 0 | G10: 0 | H10: 0 | I10: 0 | J10: 0 | K10: 0 | L10: 0 | M10: 0 | N10: 0 | O10: 0 | P10: 0 | Q10: 0 | R10: 0 | S10: 0 | T10: 0 | U10: 0 | V10: 1 | W10: 0 | X10: =SUM(B10:W10) -> 1 | Y10: =IF(ABS(X10-1)>0.001,"⚠ ≠100%","OK") -> OK
A11: 6.0 Acabamentos | B11: 0 | C11: 0 | D11: 0 | E11: 0 | F11: 0 | G11: 0 | H11: 0 | I11: 0 | J11: 0 | K11: 0 | L11: 0 | M11: 0 | N11: 0 | O11: 0 | P11: 0 | Q11: 0 | R11: 0 | S11: 0 | T11: 0 | U11: 0 | V11: 0.051282051 | W11: 0.94871795 | X11: =SUM(B11:W11) -> 1 | Y11: =IF(ABS(X11-1)>0.001,"⚠ ≠100%","OK") -> OK

Sheet Insumos
A1: Construtora Modelo Ltda
A2: DETALHAMENTO DE COMPOSIÇÕES (INSUMOS) — ORC-2026-4384
A3: Cada composição (SINAPI e próprias) explodida nos seus insumos (referência analítica 06/2026/MG). MO = mão de obra · MAT = material · EQ = equipamento.
A4: Bases de preços: SINAPI 2026-06/MG · Composição própria — não desonerado · Emissão: 08/09/2026
A5: Composição | B5: Cód. Item | C5: Tipo | D5: Insumo | E5: Und | F5: Coef. | G5: Custo Unit | H5: Custo Total | I5: Categoria
A6: 99059 LOCAÇÃO CONVENCIONAL DE OBRA, UTILIZANDO GABARITO DE TÁBUAS CORRIDAS PONTALETADAS A CADA 2,00M - 2 UTILIZAÇÕES. AF_03/2024
A7: 99059 | B7: 94974 | C7: Sub-comp. | D7: CONCRETO MAGRO PARA LASTRO, TRAÇO 1:4,5:4,5 (EM MASSA SECA DE CIMENTO/ AREIA MÉDIA/ BRITA 1) - PREPARO MANUAL. AF_05/2021 | E7: m³ | F7: 0.004 | G7: 547.45 | H7: =F7*G7 -> 2.1898 | I7: Material
A8: 99059 | B8: 91693 | C8: Sub-comp. | D8: SERRA CIRCULAR DE BANCADA COM MOTOR ELÉTRICO POTÊNCIA DE 5HP, COM COIFA PARA DISCO 10" - CHI DIURNO. AF_08/2015 | E8: CHI | F8: 0.028 | G8: 43.42 | H8: =F8*G8 -> 1.2158 | I8: Mão de obra
A9: 99059 | B9: 91692 | C9: Sub-comp. | D9: SERRA CIRCULAR DE BANCADA COM MOTOR ELÉTRICO POTÊNCIA DE 5HP, COM COIFA PARA DISCO 10" - CHP DIURNO. AF_08/2015 | E9: CHP | F9: 0.007 | G9: 45.07 | H9: =F9*G9 -> 0.3155 | I9: Mão de obra
A10: 99059 | B10: 88262 | C10: Sub-comp. | D10: CARPINTEIRO DE FORMAS COM ENCARGOS COMPLEMENTARES | E10: h | F10: 0.7247 | G10: 32.89 | H10: =F10*G10 -> 23.8354 | I10: Mão de obra
A11: 99059 | B11: 88239 | C11: Sub-comp. | D11: AJUDANTE DE CARPINTEIRO COM ENCARGOS COMPLEMENTARES | E11: h | F11: 0.7247 | G11: 27.03 | H11: =F11*G11 -> 19.5886 | I11: Mão de obra
A12: 99059 | B12: 10567 | C12: Insumo | D12: TABUA *2,5 X 23* CM EM PINUS, MISTA OU EQUIVALENTE DA REGIAO - BRUTA | E12: m | F12: 0.55 | G12: 8.71 | H12: =F12*G12 -> 4.7905 | I12: Material
A13: 99059 | B13: 7356 | C13: Insumo | D13: TINTA LATEX ACRILICA PREMIUM, COR BRANCO FOSCO | E13: L | F13: 0.0256 | G13: 34.15 | H13: =F13*G13 -> 0.8742 | I13: Material
A14: 99059 | B14: 5068 | C14: Insumo | D14: PREGO DE ACO POLIDO COM CABECA 17 X 21 (2 X 11) | E14: kg | F14: 0.111 | G14: 18.85 | H14: =F14*G14 -> 2.0924 | I14: Material
A15: 99059 | B15: 4433 | C15: Insumo | D15: CAIBRO NAO APARELHADO *6 X 6* CM, EM MACARANDUBA/MASSARANDUBA, ANGELIM OU EQUIVALENTE DA REGIAO - BRUTA | E15: m | F15: 0.4125 | G15: 38.23 | H15: =F15*G15 -> 15.7699 | I15: Material
A16: 99059 | B16: 4417 | C16: Insumo | D16: SARRAFO NAO APARELHADO *2,5 X 7* CM, EM MACARANDUBA/MASSARANDUBA, ANGELIM, PEROBA-ROSA OU EQUIVALENTE DA REGIAO - BRUTA | E16: m | F16: 0.7445 | G16: 10.64 | H16: =F16*G16 -> 7.9215 | I16: Material
D17: Σ MO 45,56 | MAT 33,02 | EQ 0,00 | H17: =SUM(H7:H16) -> 78.5936
A18: 96523 ESCAVAÇÃO MANUAL PARA BLOCO DE COROAMENTO OU SAPATA (INCLUINDO ESCAVAÇÃO PARA COLOCAÇÃO DE FÔRMAS). AF_01/2024
A19: 96523 | B19: 88316 | C19: Sub-comp. | D19: SERVENTE COM ENCARGOS COMPLEMENTARES | E19: h | F19: 3.126 | G19: 24.88 | H19: =F19*G19 -> 77.7749 | I19: Mão de obra
A20: 96523 | B20: 88309 | C20: Sub-comp. | D20: PEDREIRO COM ENCARGOS COMPLEMENTARES | E20: h | F20: 0.966 | G20: 33.62 | H20: =F20*G20 -> 32.4769 | I20: Mão de obra
D21: Σ MO 110,25 | MAT 0,00 | EQ 0,00 | H21: =SUM(H19:H20) -> 110.2518
A22: 94965 CONCRETO FCK = 25MPA, TRAÇO 1:2,3:2,7 (EM MASSA SECA DE CIMENTO/ AREIA MÉDIA/ BRITA 1) - PREPARO MECÂNICO COM BETONEIRA 400 L. AF_05/2021
A23: 94965 | B23: 88831 | C23: Sub-comp. | D23: BETONEIRA CAPACIDADE NOMINAL DE 400 L, CAPACIDADE DE MISTURA 280 L, MOTOR ELÉTRICO TRIFÁSICO POTÊNCIA DE 2 CV, SEM CARREGADOR - CHI DIURNO. AF_05/2023 | E23: CHI | F23: 0.7103 | G23: 0.5 | H23: =F23*G23 -> 0.3552 | I23: Equipamento
A24: 94965 | B24: 88830 | C24: Sub-comp. | D24: BETONEIRA CAPACIDADE NOMINAL DE 400 L, CAPACIDADE DE MISTURA 280 L, MOTOR ELÉTRICO TRIFÁSICO POTÊNCIA DE 2 CV, SEM CARREGADOR - CHP DIURNO. AF_05/2023 | E24: CHP | F24: 0.7534 | G24: 2.41 | H24: =F24*G24 -> 1.8157 | I24: Material
A25: 94965 | B25: 88377 | C25: Sub-comp. | D25: OPERADOR DE BETONEIRA ESTACIONÁRIA/MISTURADOR COM ENCARGOS COMPLEMENTARES | E25: h | F25: 1.4637 | G25: 32.16 | H25: =F25*G25 -> 47.0726 | I25: Mão de obra
A26: 94965 | B26: 88316 | C26: Sub-comp. | D26: SERVENTE COM ENCARGOS COMPLEMENTARES | E26: h | F26: 2.3117 | G26: 24.88 | H26: =F26*G26 -> 57.5151 | I26: Mão de obra
A27: 94965 | B27: 4721 | C27: Insumo | D27: PEDRA BRITADA N. 1 (9,5 A 19 MM) POSTO PEDREIRA/FORNECEDOR, SEM FRETE | E27: m³ | F27: 0.5934 | G27: 128.47 | H27: =F27*G27 -> 76.2341 | I27: Material
A28: 94965 | B28: 1379 | C28: Insumo | D28: CIMENTO PORTLAND COMPOSTO CP II-32 | E28: kg | F28: 362.6579 | G28: 0.78 | H28: =F28*G28 -> 282.8732 | I28: Material
A29: 94965 | B29: 370 | C29: Insumo | D29: AREIA MEDIA - POSTO JAZIDA/FORNECEDOR (RETIRADO NA JAZIDA, SEM TRANSPORTE) | E29: m³ | F29: 0.7229 | G29: 168.2 | H29: =F29*G29 -> 121.5918 | I29: Material
D30: Σ MO 104,59 | MAT 481,81 | EQ 1,06 | H30: =SUM(H23:H29) -> 587.4577
A31: 92917 ARMAÇÃO DE ESTRUTURAS DIVERSAS DE CONCRETO ARMADO, EXCETO VIGAS, PILARES, LAJES E FUNDAÇÕES, UTILIZANDO AÇO CA-50 DE 8,0 MM - MONTAGEM. AF_06/2022
A32: 92917 | B32: 92802 | C32: Sub-comp. | D32: CORTE E DOBRA DE AÇO CA-50, DIÂMETRO DE 8,0 MM. AF_06/2022 | E32: kg | F32: 1 | G32: 8.65 | H32: =F32*G32 -> 8.65 | I32: Material
A33: 92917 | B33: 88245 | C33: Sub-comp. | D33: ARMADOR COM ENCARGOS COMPLEMENTARES | E33: h | F33: 0.1015 | G33: 33.37 | H33: =F33*G33 -> 3.3871 | I33: Mão de obra
A34: 92917 | B34: 88238 | C34: Sub-comp. | D34: AJUDANTE DE ARMADOR COM ENCARGOS COMPLEMENTARES | E34: h | F34: 0.0166 | G34: 27.45 | H34: =F34*G34 -> 0.4557 | I34: Mão de obra
A35: 92917 | B35: 43132 | C35: Insumo | D35: ARAME RECOZIDO 16 BWG, D = 1,65 MM (0,016 KG/M) OU 18 BWG, D = 1,25 MM (0,01 KG/M) | E35: kg | F35: 0.025 | G35: 19.92 | H35: =F35*G35 -> 0.498 | I35: Material
A36: 92917 | B36: 39017 | C36: Insumo | D36: ESPACADOR / DISTANCIADOR CIRCULAR COM ENTRADA LATERAL, EM PLASTICO, PARA VERGALHAO *4,2 A 12,5* MM, COBRIMENTO 20 MM | E36: un | F36: 0.743 | G36: 0.22 | H36: =F36*G36 -> 0.1635 | I36: Material
D37: Σ MO 4,45 | MAT 8,70 | EQ 0,00 | H37: =SUM(H32:H36) -> 13.1543
A38: 103355 ALVENARIA DE VEDAÇÃO DE BLOCOS CERÂMICOS FURADOS NA HORIZONTAL DE 11,5X14X24 CM (ESPESSURA 11,5 CM) E ARGAMASSA DE ASSENTAMENTO COM PREPARO MANUAL. AF_12/2021
A39: 103355 | B39: 88316 | C39: Sub-comp. | D39: SERVENTE COM ENCARGOS COMPLEMENTARES | E39: h | F39: 0.69 | G39: 24.88 | H39: =F39*G39 -> 17.1672 | I39: Mão de obra
A40: 103355 | B40: 88309 | C40: Sub-comp. | D40: PEDREIRO COM ENCARGOS COMPLEMENTARES | E40: h | F40: 1.38 | G40: 33.62 | H40: =F40*G40 -> 46.3956 | I40: Mão de obra
...

Sheet Curva ABC
A1: Construtora Modelo Ltda
A2: CURVA ABC — ORC-2026-4384
A3: Bases de preços: SINAPI 2026-06/MG · Composição própria — não desonerado · Emissão: 08/09/2026
A4: Classe | B4: Itens | C4: Valor | D4: % do total
A5: Classe A | B5: =COUNTIF($A$9:$A$23,"A") -> 7 | C5: =SUMIFS($F$9:$F$23,$A$9:$A$23,"A") -> 210762.04 | D5: =C5/SUM($F$9:$F$23) -> 0.75158046
A6: Classe B | B6: =COUNTIF($A$9:$A$23,"B") -> 4 | C6: =SUMIFS($F$9:$F$23,$A$9:$A$23,"B") -> 51098.4 | D6: =C6/SUM($F$9:$F$23) -> 0.18221763
A7: Classe C | B7: =COUNTIF($A$9:$A$23,"C") -> 4 | C7: =SUMIFS($F$9:$F$23,$A$9:$A$23,"C") -> 18564.68 | D7: =C7/SUM($F$9:$F$23) -> 0.066201915
A8: Classe | B8: Código | C8: Descrição | D8: Und | E8: Qtd | F8: Custo Total | G8: % | H8: % Acum.
A9: =IF(H9<=0.8,"A",IF(H9<=0.95,"B","C")) -> A | B9: 87775 | C9: EMBOÇO OU MASSA ÚNICA EM ARGAMASSA TRAÇO 1:2:8, PREPARO MECÂNICO COM BETONEIRA 400 L, APLICADA MANUALMENTE EM PANOS DE FACHADA COM PRESENÇA DE VÃOS, ESPESSURA DE 25 MM. AF_08/2022 | D9: m² | E9: 780 | F9: =SUMIFS('Analítica'!$H$7:$H$1006,'Analítica'!$B$7:$B$1006,B9) -> 50458.2 | G9: =F9/SUM($F$9:$F$23) -> 0.17993466 | H9: =G9 -> 0.17993466
A10: =IF(H10<=0.8,"A",IF(H10<=0.95,"B","C")) -> A | B10: 103355 | C10: ALVENARIA DE VEDAÇÃO DE BLOCOS CERÂMICOS FURADOS NA HORIZONTAL DE 11,5X14X24 CM (ESPESSURA 11,5 CM) E ARGAMASSA DE ASSENTAMENTO COM PREPARO MANUAL. AF_12/2021 | D10: m² | E10: 420 | F10: =SUMIFS('Analítica'!$H$7:$H$1006,'Analítica'!$B$7:$B$1006,B10) -> 44553.6 | G10: =F10/SUM($F$9:$F$23) -> 0.15887878 | H10: =H9+G10 -> 0.33881344
A11: =IF(H11<=0.8,"A",IF(H11<=0.95,"B","C")) -> A | B11: 92917 | C11: ARMAÇÃO DE ESTRUTURAS DIVERSAS DE CONCRETO ARMADO, EXCETO VIGAS, PILARES, LAJES E FUNDAÇÕES, UTILIZANDO AÇO CA-50 DE 8,0 MM - MONTAGEM. AF_06/2022 | D11: kg | E11: 2800 | F11: =SUMIFS('Analítica'!$H$7:$H$1006,'Analítica'!$B$7:$B$1006,B11) -> 36764 | G11: =F11/SUM($F$9:$F$23) -> 0.13110095 | H11: =H10+G11 -> 0.46991439
A12: =IF(H12<=0.8,"A",IF(H12<=0.95,"B","C")) -> A | B12: — | C12: Concretagem de pilares e vigas FCK 30 (com bomba) | D12: m³ | E12: 34 | F12: 22440 | G12: =F12/SUM($F$9:$F$23) -> 0.080021362 | H12: =H11+G12 -> 0.54993575
A13: =IF(H13<=0.8,"A",IF(H13<=0.95,"B","C")) -> A | B13: 87263 | C13: REVESTIMENTO CERÂMICO PARA PISO COM PLACAS TIPO PORCELANATO DE DIMENSÕES 60X60 CM APLICADA EM AMBIENTES DE ÁREA MAIOR QUE 10 M². AF_02/2023_PE | D13: m² | E13: 180 | F13: =SUMIFS('Analítica'!$H$7:$H$1006,'Analítica'!$B$7:$B$1006,B13) -> 20878.2 | G13: =F13/SUM($F$9:$F$23) -> 0.074451961 | H13: =H12+G13 -> 0.62438772
A14: =IF(H14<=0.8,"A",IF(H14<=0.95,"B","C")) -> A | B14: — | C14: Forma de madeira para estrutura (3 reaproveitamentos) | D14: m² | E14: 310 | F14: 19220 | G14: =F14/SUM($F$9:$F$23) -> 0.068538796 | H14: =H13+G14 -> 0.69292651
A15: =IF(H15<=0.8,"A",IF(H15<=0.95,"B","C")) -> A | B15: 94965 | C15: CONCRETO FCK = 25MPA, TRAÇO 1:2,3:2,7 (EM MASSA SECA DE CIMENTO/ AREIA MÉDIA/ BRITA 1) - PREPARO MECÂNICO COM BETONEIRA 400 L. AF_05/2021 | D15: m³ | E15: 28 | F15: =SUMIFS('Analítica'!$H$7:$H$1006,'Analítica'!$B$7:$B$1006,B15) -> 16448.04 | G15: =F15/SUM($F$9:$F$23) -> 0.058653947 | H15: =H14+G15 -> 0.75158046
A16: =IF(H16<=0.8,"A",IF(H16<=0.95,"B","C")) -> B | B16: 99059 | C16: LOCAÇÃO CONVENCIONAL DE OBRA, UTILIZANDO GABARITO DE TÁBUAS CORRIDAS PONTALETADAS A CADA 2,00M - 2 UTILIZAÇÕES. AF_03/2024 | D16: m | E16: 180 | F16: =SUMIFS('Analítica'!$H$7:$H$1006,'Analítica'!$B$7:$B$1006,B16) -> 14137.2 | G16: =F16/SUM($F$9:$F$23) -> 0.050413458 | H16: =H15+G16 -> 0.80199392
A17: =IF(H17<=0.8,"A",IF(H17<=0.95,"B","C")) -> B | B17: 88489 | C17: PINTURA LÁTEX ACRÍLICA PREMIUM, APLICAÇÃO MANUAL EM PAREDES, DUAS DEMÃOS. AF_04/2023 | D17: m² | E17: 920 | F17: =SUMIFS('Analítica'!$H$7:$H$1006,'Analítica'!$B$7:$B$1006,B17) -> 13717.2 | G17: =F17/SUM($F$9:$F$23) -> 0.048915732 | H17: =H16+G17 -> 0.85090965
A18: =IF(H18<=0.8,"A",IF(H18<=0.95,"B","C")) -> B | B18: — | C18: Instalações elétricas — ponto completo (tubulação+fiação+dispositivo) | D18: un | E18: 96 | F18: 13632 | G18: =F18/SUM($F$9:$F$23) -> 0.048611908 | H18: =H17+G18 -> 0.89952155
A19: =IF(H19<=0.8,"A",IF(H19<=0.95,"B","C")) -> B | B19: — | C19: Instalações hidrossanitárias — ponto de água/esgoto completo | D19: un | E19: 54 | F19: 9612 | G19: =F19/SUM($F$9:$F$23) -> 0.03427653 | H19: =H18+G19 -> 0.93379808
A20: =IF(H20<=0.8,"A",IF(H20<=0.95,"B","C")) -> C | B20: 87905 | C20: CHAPISCO APLICADO EM ALVENARIA (COM PRESENÇA DE VÃOS) E ESTRUTURAS DE CONCRETO DE FACHADA, COM COLHER DE PEDREIRO. ARGAMASSA TRAÇO 1:3 COM PREPARO EM BETONEIRA 400L. AF_10/2022 | D20: m² | E20: 780 | F20: =SUMIFS('Analítica'!$H$7:$H$1006,'Analítica'!$B$7:$B$1006,B20) -> 7464.6 | G20: =F20/SUM($F$9:$F$23) -> 0.026618871 | H20: =H19+G20 -> 0.96041696
A21: =IF(H21<=0.8,"A",IF(H21<=0.95,"B","C")) -> C | B21: 96523 | C21: ESCAVAÇÃO MANUAL PARA BLOCO DE COROAMENTO OU SAPATA (INCLUINDO ESCAVAÇÃO PARA COLOCAÇÃO DE FÔRMAS). AF_01/2024 | D21: m³ | E21: 42 | F21: =SUMIFS('Analítica'!$H$7:$H$1006,'Analítica'!$B$7:$B$1006,B21) -> 4630.08 | G21: =F21/SUM($F$9:$F$23) -> 0.016510932 | H21: =H20+G21 -> 0.97692789
A22: =IF(H22<=0.8,"A",IF(H22<=0.95,"B","C")) -> C | B22: — | C22: Instalação provisória de canteiro (água/energia/tapume) | D22: un | E22: 1 | F22: 3500 | G22: =F22/SUM($F$9:$F$23) -> 0.01248105 | H22: =H21+G22 -> 0.98940894
A23: =IF(H23<=0.8,"A",IF(H23<=0.95,"B","C")) -> C | B23: — | C23: Concreto magro para lastro (preparo em obra) | D23: m³ | E23: 6 | F23: 2970 | G23: =F23/SUM($F$9:$F$23) -> 0.010591063 | H23: =H22+G23 -> 1
A25: Ordem das linhas = emissão. Valores, %, classes e o resumo acima recalculam ao editar Qtd/Custo na Analítica. Use o filtro do cabeçalho para ver só uma classe.

Sheet Cronograma
A1: Construtora Modelo Ltda
A2: CRONOGRAMA FÍSICO-FINANCEIRO (22 meses, com BDI) — ORC-2026-4384
A3: Bases de preços: SINAPI 2026-06/MG · Composição própria — não desonerado · Emissão: 08/09/2026
A4: Etapa | B4: set/26 | C4: out/26 | D4: nov/26 | E4: dez/26 | F4: jan/27 | G4: fev/27 | H4: mar/27 | I4: abr/27 | J4: mai/27 | K4: jun/27 | L4: jul/27 | M4: ago/27 | N4: set/27 | O4: out/27 | P4: nov/27 | Q4: dez/27 | R4: jan/28 | S4: fev/28 | T4: mar/28 | U4: abr/28 | V4: mai/28 | W4: jun/28+ | X4: Total
A5: 1.0 Serviços Preliminares | B5: ='Sintética'!$F$7*'Parâmetros'!B6 -> 22402.85 | C5: ='Sintética'!$F$7*'Parâmetros'!C6 -> 0 | D5: ='Sintética'!$F$7*'Parâmetros'!D6 -> 0 | E5: ='Sintética'!$F$7*'Parâmetros'!E6 -> 0 | F5: ='Sintética'!$F$7*'Parâmetros'!F6 -> 0 | G5: ='Sintética'!$F$7*'Parâmetros'!G6 -> 0 | H5: ='Sintética'!$F$7*'Parâmetros'!H6 -> 0 | I5: ='Sintética'!$F$7*'Parâmetros'!I6 -> 0 | ... W5: ='Sintética'!$F$7*'Parâmetros'!W6 -> 0 | X5: =SUM(B5:W5) -> 22402.85
A6: 2.0 Fundações | B6: ='Sintética'!$F$8*'Parâmetros'!B7 -> 30547.88 | C6: ='Sintética'!$F$8*'Parâmetros'!C7 -> 0 | D6: ='Sintética'!$F$8*'Parâmetros'!D7 -> 0 | E6: ='Sintética'!$F$8*'Parâmetros'!E7 -> 0 | F6: ='Sintética'!$F$8*'Parâmetros'!F7 -> 0 | G6: ='Sintética'!$F$8*'Parâmetros'!G7 -> 0 | H6: ='Sintética'!$F$8*'Parâmetros'!H7 -> 0 | I6: ='Sintética'!$F$8*'Parâmetros'!I7 -> 0 | ... W6: ='Sintética'!$F$8*'Parâmetros'!W7 -> 0 | X6: =SUM(B6:W6) -> 30547.88
A7: 3.0 Estrutura | B7: ='Sintética'!$F$9*'Parâmetros'!B8 -> 569.1072 | C7: ='Sintética'!$F$9*'Parâmetros'!C8 -> 5975.6256 | D7: ='Sintética'!$F$9*'Parâmetros'!D8 -> 5406.5184 | E7: ='Sintética'!$F$9*'Parâmetros'!E8 -> 6260.1792 | F7: ='Sintética'!$F$9*'Parâmetros'!F8 -> 5691.072 | G7: ='Sintética'!$F$9*'Parâmetros'!G8 -> 5121.9648 | H7: ='Sintética'!$F$9*'Parâmetros'!H8 -> 6260.1792 | I7: ='Sintética'!$F$9*'Parâmetros'!I8 -> 5975.6256 | ... W7: ='Sintética'!$F$9*'Parâmetros'!W8 -> 0 | X7: =SUM(B7:W7) -> 99593.76
A8: 4.0 Alvenaria e Vedações | B8: ='Sintética'!$F$10*'Parâmetros'!B9 -> 0 | C8: ='Sintética'!$F$10*'Parâmetros'!C9 -> 0 | D8: ='Sintética'!$F$10*'Parâmetros'!D9 -> 0 | E8: ='Sintética'!$F$10*'Parâmetros'!E9 -> 0 | F8: ='Sintética'!$F$10*'Parâmetros'!F9 -> 0 | G8: ='Sintética'!$F$10*'Parâmetros'!G9 -> 0 | H8: ='Sintética'!$F$10*'Parâmetros'!H9 -> 0 | I8: ='Sintética'!$F$10*'Parâmetros'!I9 -> 0 | ... W8: ='Sintética'!$F$10*'Parâmetros'!W9 -> 8135.2875 | X8: =SUM(B8:W8) -> 130164.6
A9: 5.0 Instalações | B9: ='Sintética'!$F$11*'Parâmetros'!B10 -> 0 | C9: ='Sintética'!$F$11*'Parâmetros'!C10 -> 0 | D9: ='Sintética'!$F$11*'Parâmetros'!D10 -> 0 | E9: ='Sintética'!$F$11*'Parâmetros'!E10 -> 0 | F9: ='Sintética'!$F$11*'Parâmetros'!F10 -> 0 | G9: ='Sintética'!$F$11*'Parâmetros'!G10 -> 0 | H9: ='Sintética'!$F$11*'Parâmetros'!H10 -> 0 | I9: ='Sintética'!$F$11*'Parâmetros'!I10 -> 0 | ... W9: ='Sintética'!$F$11*'Parâmetros'!W10 -> 0 | X9: =SUM(B9:W9) -> 29526.42
A10: 6.0 Acabamentos | B10: ='Sintética'!$F$12*'Parâmetros'!B11 -> 0 | C10: ='Sintética'!$F$12*'Parâmetros'!C11 -> 0 | D10: ='Sintética'!$F$12*'Parâmetros'!D11 -> 0 | E10: ='Sintética'!$F$12*'Parâmetros'!E11 -> 0 | F10: ='Sintética'!$F$12*'Parâmetros'!F11 -> 0 | G10: ='Sintética'!$F$12*'Parâmetros'!G11 -> 0 | H10: ='Sintética'!$F$12*'Parâmetros'!H11 -> 0 | I10: ='Sintética'!$F$12*'Parâmetros'!I11 -> 0 | ... W10: ='Sintética'!$F$12*'Parâmetros'!W11 -> 41692.359 | X10: =SUM(B10:W10) -> 43946
A11: TOTAL / MÊS | B11: =SUM(B5:B10) -> 53519.837 | C11: =SUM(C5:C10) -> 5975.6256 | D11: =SUM(D5:D10) -> 5406.5184 | E11: =SUM(E5:E10) -> 6260.1792 | F11: =SUM(F5:F10) -> 5691.072 | G11: =SUM(G5:G10) -> 5121.9648 | H11: =SUM(H5:H10) -> 6260.1792 | I11: =SUM(I5:I10) -> 5975.6256 | ... W11: =SUM(W5:W10) -> 49827.646 | X11: =SUM(B11:W11) -> 356181.51
A12: % acumulado | B12: =SUM($B$11:B11)/$X$11 -> 0.15026001 | C12: =SUM($B$11:C11)/$X$11 -> 0.16703692 | D12: =SUM($B$11:D11)/$X$11 -> 0.18221603 | E12: =SUM($B$11:E11)/$X$11 -> 0.19979184 | F12: =SUM($B$11:F11)/$X$11 -> 0.21576985 | G12: =SUM($B$11:G11)/$X$11 -> 0.23015006 | H12: =SUM($B$11:H11)/$X$11 -> 0.24772588 | I12: =SUM($B$11:I11)/$X$11 -> 0.26450279 | ... W12: =SUM($B$11:W11)/$X$11 -> 1

Sheet Gantt
A1: Construtora Modelo Ltda
A2: CRONOGRAMA FÍSICO / GANTT (CPM) — ORC-2026-4384 · Residência Alto da Boa Vista — 180 m²
A3: Cronograma VIVO: edite Dias (coluna C, amarela), a data de início (B4), os dias úteis por semana (D4) e o paralelismo (F4) — início, fim, folga, datas, caminho crítico e barras recalculam. "Depende de" (#nº da etapa, +/−dias de defasagem) é a rede de precedência definida no app (informativa aqui). Emissão: 470 dias úteis (~94 semanas), 08/09/2026 → 25/07/2028.
A4: Início da obra | B4: 46273 | C4: Dias úteis por semana | D4: 5 | E4: Paralelismo | F4: 0.15 | G4: Amarelo = editável. 5 = seg–sex · 6 = seg–sáb · 7 = corrido.
A5: Prazo total (dias úteis) | B5: =MAX(F7:F12) -> 470 | C5: Semanas | D5: =ROUNDUP(B5/$D$4,0) -> 94 | E5: Fim previsto | F5: =IF($D$4>=7,_xlfn.WORKDAY.INTL($B$4,B5,"0000000",Feriados!$A$3:$A$74),IF($D$4=6,_xlfn.WORKDAY.INTL($B$4,B5,11,Feriados!$A$3:$A$74),WORKDAY($B$4,B5,Feriados!$A$3:$A$74))) -> 46959 | H5: Etapas críticas | I5: =COUNTIF(J7:J12,"SIM") -> 6 | K5: =$B$4+7*(K$6-1) -> 46273 | L5: =$B$4+7*(L$6-1) -> 46280 | M5: =$B$4+7*(M$6-1) -> 46287 | N5: =$B$4+7*(N$6-1) -> 46294 | O5: =$B$4+7*(O$6-1) -> 46301 | P5: =$B$4+7*(P$6-1) -> 46308 | Q5: =$B$4+7*(Q$6-1) -> 46315 | R5: =$B$4+7*(R$6-1) -> 46322 | ... DD5: =$B$4+7*(DD$6-1) -> 46952
A6: Etapa | B6: Categoria | C6: Dias | D6: Depende de | E6: Início (d) | F6: Fim (d) | G6: Folga (d) | H6: Data início | I6: Data fim | J6: Crítico | K6: 1 | L6: 2 | M6: 3 | N6: 4 | O6: 5 | P6: 6 | Q6: 7 | R6: 8 | S6: 9 | T6: 10 | U6: 11 | V6: 12 | W6: 13 | X6: 14 | Y6: 15 | Z6: 16 | AA6: 17 | AB6: 18 | AC6: 19 | AD6: 20 | AE6: 21 | AF6: 22 | AG6: 23 | AH6: 24 | AI6: 25 | AJ6: 26 | AK6: 27 | AL6: 28 | AM6: 29 | AN6: 30 | AO6: 31 | AP6: 32 | AQ6: 33 | AR6: 34 | AS6: 35 | AT6: 36 | AU6: 37 | AV6: 38 | AW6: 39 | AX6: 40 | AY6: 41 | AZ6: 42 | BA6: 43 | BB6: 44 | BC6: 45 | BD6: 46 | BE6: 47 | BF6: 48 | BG6: 49 | BH6: 50 | BI6: 51 | BJ6: 52 | BK6: 53 | BL6: 54 | BM6: 55 | BN6: 56 | BO6: 57 | BP6: 58 | BQ6: 59 | BR6: 60 | BS6: 61 | BT6: 62 | BU6: 63 | BV6: 64 | BW6: 65 | BX6: 66 | BY6: 67 | BZ6: 68 | CA6: 69 | CB6: 70 | CC6: 71 | CD6: 72 | CE6: 73 | CF6: 74 | CG6: 75 | CH6: 76 | CI6: 77 | CJ6: 78 | CK6: 79 | CL6: 80 | CM6: 81 | CN6: 82 | CO6: 83 | CP6: 84 | CQ6: 85 | CR6: 86 | CS6: 87 | CT6: 88 | CU6: 89 | CV6: 90 | CW6: 91 | CX6: 92 | CY6: 93 | CZ6: 94 | DA6: 95 | DB6: 96 | DC6: 97 | DD6: 98
A7: 1.0 Serviços Preliminares | B7: Preliminares/Canteiro | C7: 10 | E7: 0 | F7: =E7+C7 -> 10 | G7: =MAX(0,MIN($B$5,E8+G8+INT($F$4*C7))-F7) -> 0 | H7: =IF($D$4>=7,_xlfn.WORKDAY.INTL($B$4,E7,"0000000",Feriados!$A$3:$A$74),IF($D$4=6,_xlfn.WORKDAY.INTL($B$4,E7,11,Feriados!$A$3:$A$74),WORKDAY($B$4,E7,Feriados!$A$3:$A$74))) -> 46273 | I7: =IF($D$4>=7,_xlfn.WORKDAY.INTL($B$4,F7,"0000000",Feriados!$A$3:$A$74),IF($D$4=6,_xlfn.WORKDAY.INTL($B$4,F7,11,Feriados!$A$3:$A$74),WORKDAY($B$4,F7,Feriados!$A$3:$A$74))) -> 46287 | J7: =IF(G7=0,"SIM","") -> SIM
A8: 2.0 Fundações | B8: Estrutura/Concreto | C8: 6 | D8: #1 | E8: =MAX(0,F7-INT($F$4*C7)) -> 9 | F8: =E8+C8 -> 15 | G8: =MAX(0,MIN($B$5,E9+G9+INT($F$4*C8))-F8) -> 0 | H8: =IF($D$4>=7,_xlfn.WORKDAY.INTL($B$4,E8,"0000000",Feriados!$A$3:$A$74),IF($D$4=6,_xlfn.WORKDAY.INTL($B$4,E8,11,Feriados!$A$3:$A$74),WORKDAY($B$4,E8,Feriados!$A$3:$A$74))) -> 46286 | I8: =IF($D$4>=7,_xlfn.WORKDAY.INTL($B$4,F8,"0000000",Feriados!$A$3:$A$74),IF($D$4=6,_xlfn.WORKDAY.INTL($B$4,F8,11,Feriados!$A$3:$A$74),WORKDAY($B$4,F8,Feriados!$A$3:$A$74))) -> 46294 | J8: =IF(G8=0,"SIM","") -> SIM
A9: 3.0 Estrutura | B9: Estrutura/Concreto | C9: 350 | D9: #2 | E9: =MAX(0,F8-INT($F$4*C8)) -> 15 | F9: =E9+C9 -> 365 | G9: =MAX(0,MIN($B$5,E10+G10+INT($F$4*C9))-F9) -> 0 | H9: =IF($D$4>=7,_xlfn.WORKDAY.INTL($B$4,E9,"0000000",Feriados!$A$3:$A$74),IF($D$4=6,_xlfn.WORKDAY.INTL($B$4,E9,11,Feriados!$A$3:$A$74),WORKDAY($B$4,E9,Feriados!$A$3:$A$74))) -> 46294 | I9: =IF($D$4>=7,_xlfn.WORKDAY.INTL($B$4,F9,"0000000",Feriados!$A$3:$A$74),IF($D$4=6,_xlfn.WORKDAY.INTL($B$4,F9,11,Feriados!$A$3:$A$74),WORKDAY($B$4,F9,Feriados!$A$3:$A$74))) -> 46804 | J9: =IF(G9=0,"SIM","") -> SIM
A10: 4.0 Alvenaria e Vedações | B10: Revestimentos | C10: 128 | D10: #3 | E10: =MAX(0,F9-INT($F$4*C9)) -> 313 | F10: =E10+C10 -> 441 | G10: =MAX(0,MIN($B$5,E11+G11+INT($F$4*C10))-F10) -> 0 | H10: =IF($D$4>=7,_xlfn.WORKDAY.INTL($B$4,E10,"0000000",Feriados!$A$3:$A$74),IF($D$4=6,_xlfn.WORKDAY.INTL($B$4,E10,11,Feriados!$A$3:$A$74),WORKDAY($B$4,E10,Feriados!$A$3:$A$74))) -> 46730 | I10: =IF($D$4>=7,_xlfn.WORKDAY.INTL($B$4,F10,"0000000",Feriados!$A$3:$A$74),IF($D$4=6,_xlfn.WORKDAY.INTL($B$4,F10,11,Feriados!$A$3:$A$74),WORKDAY($B$4,F10,Feriados!$A$3:$A$74))) -> 46917 | J10: =IF(G10=0,"SIM","") -> SIM
A11: 5.0 Instalações | B11: Instalações | C11: 10 | D11: #4 | E11: =MAX(0,F10-INT($F$4*C10)) -> 422 | F11: =E11+C11 -> 432 | G11: =MAX(0,MIN($B$5,E12+G12+INT($F$4*C11))-F11) -> 0 | H11: =IF($D$4>=7,_xlfn.WORKDAY.INTL($B$4,E11,"0000000",Feriados!$A$3:$A$74),IF($D$4=6,_xlfn.WORKDAY.INTL($B$4,E11,11,Feriados!$A$3:$A$74),WORKDAY($B$4,E11,Feriados!$A$3:$A$74))) -> 46890 | I11: =IF($D$4>=7,_xlfn.WORKDAY.INTL($B$4,F11,"0000000",Feriados!$A$3:$A$74),IF($D$4=6,_xlfn.WORKDAY.INTL($B$4,F11,11,Feriados!$A$3:$A$74),WORKDAY($B$4,F11,Feriados!$A$3:$A$74))) -> 46904 | J11: =IF(G11=0,"SIM","") -> SIM
A12: 6.0 Acabamentos | B12: Revestimentos | C12: 39 | D12: #5 | E12: =MAX(0,F11-INT($F$4*C11)) -> 431 | F12: =E12+C12 -> 470 | G12: =MAX(0,MIN($B$5)-F12) -> 0 | H12: =IF($D$4>=7,_xlfn.WORKDAY.INTL($B$4,E12,"0000000",Feriados!$A$3:$A$74),IF($D$4=6,_xlfn.WORKDAY.INTL($B$4,E12,11,Feriados!$A$3:$A$74),WORKDAY($B$4,E12,Feriados!$A$3:$A$74))) -> 46903 | I12: =IF($D$4>=7,_xlfn.WORKDAY.INTL($B$4,F12,"0000000",Feriados!$A$3:$A$74),IF($D$4=6,_xlfn.WORKDAY.INTL($B$4,F12,11,Feriados!$A$3:$A$74),WORKDAY($B$4,F12,Feriados!$A$3:$A$74))) -> 46959 | J12: =IF(G12=0,"SIM","") -> SIM
A14: LEGENDA
A15: Preliminares/Canteiro
A16: Estrutura/Concreto
A17: Revestimentos
A18: Instalações
A19: Caminho crítico (folga zero)
A20: ◆ Marco = etapa de duração zero (entrega, vistoria, liberação): ocupa uma célula na semana em que cai.
A21: Início/Fim/Folga em dias úteis contados a partir de B4 (dia 0). Folga = quanto a etapa pode atrasar sem mudar o fim da obra. As barras têm 98 semanas de largura (94 da emissão + 4 de reserva); se o prazo passar disso, aumente a área ou reexporte do app. A curva S da aba Gráficos e a matriz de desembolso (Parâmetros/Cronograma) são da emissão e não seguem esta aba.

Sheet Feriados
A1: FERIADOS DESCONTADOS DO PRAZO — acrescente aqui os feriados da sua cidade (o Gantt recalcula sozinho)
A2: Data | B2: Feriado | C2: Tipo
A3: 46023 | B3: Confraternização Universal | C3: nacional
A4: 46069 | B4: Carnaval (segunda) | C4: ponto facultativo
A5: 46070 | B5: Carnaval (terça) | C5: ponto facultativo
A6: 46115 | B6: Sexta-feira Santa | C6: nacional
A7: 46133 | B7: Tiradentes | C7: nacional
A8: 46143 | B8: Dia do Trabalho | C8: nacional
A9: 46177 | B9: Corpus Christi | C9: ponto facultativo
A10: 46272 | B10: Independência do Brasil | C10: nacional
A11: 46307 | B11: Nossa Senhora Aparecida | C11: nacional
A12: 46328 | B12: Finados | C12: nacional
A13: 46341 | B13: Proclamação da República | C13: nacional
A14: 46346 | B14: Consciência Negra | C14: nacional
... A54: 47477 | B54: Natal | C54: nacional
A76: Carnaval e Corpus Christi são ponto facultativo, não feriado nacional — entram porque a obra para. Apague a linha se a sua equipe trabalha nesses dias.

Sheet Gráficos
A1: Construtora Modelo Ltda
A2: GRÁFICOS DO ORÇAMENTO — ORC-2026-4384 · Residência Alto da Boa Vista — 180 m²
B4: Curva ABC (Pareto)
B38: Curva S — avanço físico-financeiro
B69: Composição de custo (MO / MAT / EQ)

Sheet Dados IA
A1: BASE DE DADOS DO ORÇAMENTO (para análise e IA/Copilot) — espelho vivo da aba Analítica
A2: Etapa | B2: Item | C2: Codigo | D2: Fonte | E2: Descricao | F2: Und | G2: Qtd | H2: CustoUnit | I2: CustoTotal | J2: PrecoUnitBDI | K2: PrecoTotalBDI
A3: 1|1.0 | B3: 1 | C3: ='Analítica'!B8 -> 99059 | D3: ='Analítica'!C8 | E3: ='Analítica'!D8 -> LOCAÇÃO CONVENCIONAL DE OBRA, UTILIZANDO GABARITO DE TÁBUAS CORRIDAS PONTALETADAS A CADA 2,00M - 2 UTILIZAÇÕES. AF_03/2024 | F3: ='Analítica'!E8 -> m | G3: ='Analítica'!F8 -> 180 | H3: ='Analítica'!G8 -> 78.54 | I3: ='Analítica'!H8 -> 14137.2 | J3: ='Analítica'!I8 -> 99.76 | K3: ='Analítica'!J8 -> 17956.8
A4: 1|1.0 | B4: 2 | C4: ='Analítica'!B9 -> — | D4: ='Analítica'!C9 | E4: ='Analítica'!D9 -> Instalação provisória de canteiro (água/energia/tapume) | F4: ='Analítica'!E9 -> un | G4: ='Analítica'!F9 -> 1 | H4: ='Analítica'!G9 -> 3500 | I4: ='Analítica'!H9 -> 3500 | J4: ='Analítica'!I9 -> 4446.05 | K4: ='Analítica'!J9 -> 4446.05
A5: 2|2.0 | B5: 3 | C5: ='Analítica'!B12 -> 96523 | D5: ='Analítica'!C12 | E5: ='Analítica'!D12 -> ESCAVAÇÃO MANUAL PARA BLOCO DE COROAMENTO OU SAPATA (INCLUINDO ESCAVAÇÃO PARA COLOCAÇÃO DE FÔRMAS). AF_01/2024 | F5: ='Analítica'!E12 -> m³ | G5: ='Analítica'!F12 -> 42 | H5: ='Analítica'!G12 -> 110.24 | I5: ='Analítica'!H12 -> 4630.08 | J5: ='Analítica'!I12 -> 140.03 | K5: ='Analítica'!J12 -> 5881.26
A6: 2|2.0 | B6: 4 | C6: ='Analítica'!B13 -> — | D6: ='Analítica'!C13 | E6: ='Analítica'!D13 -> Concreto magro para lastro (preparo em obra) | F6: ='Analítica'!E13 -> m³ | G6: ='Analítica'!F13 -> 6 | H6: ='Analítica'!G13 -> 495 | I6: ='Analítica'!H13 -> 2970 | J6: ='Analítica'!I13 -> 628.79 | K6: ='Analítica'!J13 -> 3772.74
A7: 2|2.0 | B7: 5 | C7: ='Analítica'!B14 -> 94965 | D7: ='Analítica'!C14 | E7: ='Analítica'!D14 -> CONCRETO FCK = 25MPA, TRAÇO 1:2,3:2,7 (EM MASSA SECA DE CIMENTO/ AREIA MÉDIA/ BRITA 1) - PREPARO MECÂNICO COM BETONEIRA 400 L. AF_05/2021 | F7: ='Analítica'!E14 -> m³ | G7: ='Analítica'!F14 -> 28 | H7: ='Analítica'!G14 -> 587.43 | I7: ='Analítica'!H14 -> 16448.04 | J7: ='Analítica'!I14 -> 746.21 | K7: ='Analítica'!J14 -> 20893.88
A8: 3|3.0 | B8: 6 | C8: ='Analítica'!B17 -> — | D8: ='Analítica'!C17 | E8: ='Analítica'!D17 -> Concretagem de pilares e vigas FCK 30 (com bomba) | F8: ='Analítica'!E17 -> m³ | G8: ='Analítica'!F17 -> 34 | H8: ='Analítica'!G17 -> 660 | I8: ='Analítica'!H17 -> 22440 | J8: ='Analítica'!I17 -> 838.39 | K8: ='Analítica'!J17 -> 28505.26
A9: 3|3.0 | B9: 7 | C9: ='Analítica'!B18 -> 92917 | D9: ='Analítica'!C18 | E9: ='Analítica'!D18 -> ARMAÇÃO DE ESTRUTURAS DIVERSAS DE CONCRETO ARMADO, EXCETO VIGAS, PILARES, LAJES E FUNDAÇÕES, UTILIZANDO AÇO CA-50 DE 8,0 MM - MONTAGEM. AF_06/2022 | F9: ='Analítica'!E18 -> kg | G9: ='Analítica'!F18 -> 2800 | H9: ='Analítica'!G18 -> 13.13 | I9: ='Analítica'!H18 -> 36764 | J9: ='Analítica'!I18 -> 16.67 | K9: ='Analítica'!J18 -> 46676
A10: 3|3.0 | B10: 8 | C10: ='Analítica'!B19 -> — | D10: ='Analítica'!C19 | E10: ='Analítica'!D19 -> Forma de madeira para estrutura (3 reaproveitamentos) | F10: ='Analítica'!E19 -> m² | G10: ='Analítica'!F19 -> 310 | H10: ='Analítica'!G19 -> 62 | I10: ='Analítica'!H19 -> 19220 | J10: ='Analítica'!I19 -> 78.75 | K10: ='Analítica'!J19 -> 24412.5
A11: 4|4.0 | B11: 9 | C11: ='Analítica'!B22 -> 103355 | D11: ='Analítica'!C22 | E11: ='Analítica'!D22 -> ALVENARIA DE VEDAÇÃO DE BLOCOS CERÂMICOS FURADOS NA HORIZONTAL DE 11,5X14X24 CM (ESPESSURA 11,5 CM) E ARGAMASSA DE ASSENTAMENTO COM PREPARO MANUAL. AF_12/2021 | F11: ='Analítica'!E22 -> m² | G11: ='Analítica'!F22 -> 420 | H11: ='Analítica'!G22 -> 106.08 | I11: ='Analítica'!H22 -> 44553.6 | J11: ='Analítica'!I22 -> 134.75 | K11: ='Analítica'!J22 -> 56595
A12: 4|4.0 | B12: 10 | C12: ='Analítica'!B23 -> 87905 | D12: ='Analítica'!C23 | E12: ='Analítica'!D23 -> CHAPISCO APLICADO EM ALVENARIA (COM PRESENÇA DE VÃOS) E ESTRUTURAS DE CONCRETO DE FACHADA, COM COLHER DE PEDREIRO. ARGAMASSA TRAÇO 1:3 COM PREPARO EM BETONEIRA 400L. AF_10/2022 | F12: ='Analítica'!E23 -> m² | G12: ='Analítica'!F23 -> 780 | H12: ='Analítica'!G23 -> 9.57 | I12: ='Analítica'!H23 -> 7464.6 | J12: ='Analítica'!I23 -> 12.15 | K12: ='Analítica'!J23 -> 9477
A13: 4|4.0 | B13: 11 | C13: ='Analítica'!B24 -> 87775 | D13: ='Analítica'!C24 | E13: ='Analítica'!D24 -> EMBOÇO OU MASSA ÚNICA EM ARGAMASSA TRAÇO 1:2:8, PREPARO MECÂNICO COM BETONEIRA 400 L, APLICADA MANUALMENTE EM PANOS DE FACHADA COM PRESENÇA DE VÃOS, ESPESSURA DE 25 MM. AF_08/2022 | F13: ='Analítica'!E24 -> m² | G13: ='Analítica'!F24 -> 780 | H13: ='Analítica'!G24 -> 64.69 | I13: ='Analítica'!H24 -> 50458.2 | J13: ='Analítica'!I24 -> 82.17 | K13: ='Analítica'!J24 -> 64092.6
A14: 5|5.0 | B14: 12 | C14: ='Analítica'!B27 -> — | D14: ='Analítica'!C27 | E14: ='Analítica'!D27 -> Instalações elétricas — ponto completo (tubulação+fiação+dispositivo) | F14: ='Analítica'!E27 -> un | G14: ='Analítica'!F27 -> 96 | H14: ='Analítica'!G27 -> 142 | I14: ='Analítica'!H27 -> 13632 | J14: ='Analítica'!I27 -> 180.38 | K14: ='Analítica'!J27 -> 17316.48
A15: 5|5.0 | B15: 13 | C15: ='Analítica'!B28 -> — | D15: ='Analítica'!C28 | E15: ='Analítica'!D28 -> Instalações hidrossanitárias — ponto de água/esgoto completo | F15: ='Analítica'!E28 -> un | G15: ='Analítica'!F28 -> 54 | H15: ='Analítica'!G28 -> 178 | I15: ='Analítica'!H28 -> 9612 | J15: ='Analítica'!I28 -> 226.11 | K15: ='Analítica'!J28 -> 12209.94
A16: 6|6.0 | B16: 14 | C16: ='Analítica'!B31 -> 87263 | D16: ='Analítica'!C31 | E16: ='Analítica'!D31 -> REVESTIMENTO CERÂMICO PARA PISO COM PLACAS TIPO PORCELANATO DE DIMENSÕES 60X60 CM APLICADA EM AMBIENTES DE ÁREA MAIOR QUE 10 M². AF_02/2023_PE | F16: ='Analítica'!E31 -> m² | G16: ='Analítica'!F31 -> 180 | H16: ='Analítica'!G31 -> 115.99 | I16: ='Analítica'!H31 -> 20878.2 | J16: ='Analítica'!I31 -> 147.34 | K16: ='Analítica'!J31 -> 26521.2
A17: 6|6.0 | B17: 15 | C17: ='Analítica'!B32 -> 88489 | D17: ='Analítica'!C32 | E17: ='Analítica'!D32 -> PINTURA LÁTEX ACRÍLICA PREMIUM, APLICAÇÃO MANUAL EM PAREDES, DUAS DEMÃOS. AF_04/2023 | F17: ='Analítica'!E32 -> m² | G17: ='Analítica'!F32 -> 920 | H17: ='Analítica'!G32 -> 14.91 | I17: ='Analítica'!H32 -> 13717.2 | J17: ='Analítica'!I32 -> 18.94 | K17: ='Analítica'!J32 -> 17424.8

Sheet Leia-me
A1: CONSTRUTORA MODELO LTDA — COMO USAR ESTA PLANILHA
A2: ORC-2026-4384 · Residência Alto da Boa Vista — 180 m² | SINAPI 2026-06/MG · Composição própria | Não desonerado
A4: ✏️ O QUE VOCÊ PODE EDITAR (células AMARELAS):
A5: • Resumo!B6 — o BDI aplicado (%). Tudo recalcula: preços unitários, totais, curva ABC, cronograma.
A6: • Analítica, colunas Qtd e Custo Unit — simule quantidades e preços negociados.
A7: • Resumo, parcelas do quadro BDI — a linha "BDI pela fórmula TCU" confere na hora.
A8: • Parâmetros — matriz de desembolso (% de cada etapa por mês): o Cronograma e a Curva S seguem.
A9: • Gantt — Dias de cada etapa (coluna C), data de início (B4), dias úteis/semana (D4) e paralelismo (F4):
A10: início, fim, folga, datas, caminho crítico e as barras recalculam (CPM por fórmula). "Depende de" é informativo.
A11: • Feriados — a lista que as datas do Gantt consultam. Acrescente o feriado da sua cidade e o cronograma inteiro anda.
A13: 🔒 PROTEÇÃO: as demais células têm fórmula e estão travadas só contra edição acidental.
A14: Senha para desproteger (Revisão → Desproteger Planilha): raeng
... A29: Gerado pelo OrçaPRO IA — orçamento de obras com bases oficiais e IA.

Sheet _meta
A1: {"v":1,"tipo":"orcapro-meta","partes":1,"schemaVersao":3,"id":"demo-ot-orc","numero":"ORC-2026-4384","geradoEm":"2026-09-08T20:28:44.743Z","propriasPartes":0,"propriasQtd":0}
A2: {"id":"demo-ot-orc","schemaVersao":3,"numero":"ORC-2026-4384","nome":"Residência Alto da Boa Vista — 180 m²","cliente":{"nome":"Construtora Horizonte Ltda","doc":"12.345.678/0001-90","contato":"contato@horizonteconstrutora.com.br"},"obra":{"nome":"Residência Alto da Boa Vista","local":"Rua dos Ipês, 250 — Jardim Karaíba, Uberlândia/MG","regime":"Empreitada"},"competenciaSinapi":"2026-06","uf":"MG","desonerado":false,"bdi":{"modeloId":"padrao","params":{"AC":4,"S":0.8,"R":0.97,"G":0.4,"DF":1.2,"L":8,"I":8.65},"percentual":27.03},"config":{"categoria":"","prazoEntrega":"","arredondamento":"truncar2","bdiIncidencia":"unitario","encargos":{"tipo":"nao_desonerado","horista":0,"mensalista":0},"permitirZerado":false,"licitacao":{"ativo":false,"tipo":"","abertura":"","processo":""}},"comercial":{"apresentacao":"","condicoesPagamento":"Pagamento por medição mensal dos serviços executados, com vencimento em 5 dias úteis após a aprovação da medição.","prazoExecucao":"A combinar conforme cronograma físico-financeiro.","validadeProposta":"15 dias corridos a contar da data de emissão.","validadeDias":15,"garantia":"Garantia legal de 5 (cinco) anos para a solidez e segurança da obra, nos termos do art. 618 do Código Civil.","incluso":"Fornecimento de materiais e mão de obra dos serviços orçados;\nLeis sociais e encargos trabalhistas;\nFerramentas e equipamentos de execução;\nLimpeza periódica e final da obra.","excluso":"Projetos complementares e taxas de aprovação;\nLigações definitivas de água, energia e esgoto;\nMobiliário, paisagismo e itens de decoração;\nServiços não descritos expressamente nesta proposta.","linkPlanilha":""},"cronogramaMeses":22,"etapas":[{"id":"eta_mtt4gwo3fyddkr","codigo":"1.0","nome":"Serviços Preliminares","itens":[{"id":"itm_mtt4gwo4c18rjs","origem":"SINAPI","baseFonte":"SINAPI","codigo":"99059","descricao":"LOCAÇÃO CONVENCIONAL DE OBRA, UTILIZANDO GABARITO DE TÁBUAS CORRIDAS PONTALETADAS A CADA 2,00M - 2 UTILIZAÇÕES. AF_03/2024","unidade":"M","quantidade":180,"custoUnitario":78.54,"custoMO":0,"custoMAT":0,"custoEQ":0},{"id":"itm_mtt4gwo4u8flu5","origem":"PROPRIO","baseFonte":null,"codigo":"—","descricao":"Instalação provisória de canteiro (água/energia/tapume)","unidade":"un","quantidade":1,"custoUnitario":3500,"custoMO":1200,"custoMAT":2300,"custoEQ":0}]},{"id":"eta_mtt4gwo4hzmau9","codigo":"2.0","nome":"Fundações","itens":[{"id":"itm_mtt4gwo4fxzls9","origem":"SINAPI","baseFonte":"SINAPI","codigo":"96523","descricao":"ESCAVAÇÃO MANUAL PARA BLOCO DE COROAMENTO OU SAPATA (INCLUINDO ESCAVAÇÃO PARA COLOCAÇÃO DE FÔRMAS). AF_01/2024","unidade":"M3","quantidade":42,"custoUnitario":110.24,"custoMO":0,"custoMAT":0,"custoEQ":0},{"id":"itm_mtt4gwo4u4yuxy","origem":"PROPRIO","baseFonte":null,"codigo":"—","descricao":"Concreto magro para lastro (preparo em obra)","unidade":"m3","quantidade":6,"custoUnitario":495,"custoMO":92,"custoMAT":388,"custoEQ":15},{"id":"itm_mtt4gwo4czvyjf","origem":"SINAPI","baseFonte":"SINAPI","codigo":"94965","descricao":"CONCRETO FCK = 25MPA, TRAÇO 1:2,3:2,7 (EM MASSA SECA DE CIMENTO/ AREIA MÉDIA/ BRITA 1) - PREPARO MECÂNICO COM BETONEIRA 400 L. AF_05/2021","unidade":"M3","quantidade":28,"custoUnitario":587.43,"custoMO":0,"custoMAT":0,"custoEQ":0}]},{"id":"eta_mtt4gwo4o7hncu","codigo":"3.0","nome":"Estrutura","itens":[{"id":"itm_mtt4gwo4byuuv3","origem":"PROPRIO","baseFonte":null,"codigo":"—","descricao":"Concretagem de pilares e vigas FCK 30 (com bomba)","unidade":"m3","quantidade":34,"custoUnitario":660,"custoMO":132,"custoMAT":498,"custoEQ":30},{"id":"itm_mtt4gwo41b8emu","origem":"SINAPI","baseFonte":"SINAPI","codigo":"92917","descricao":"ARMAÇÃO DE ESTRUTURAS DIVERSAS DE CONCRETO ARMADO, EXCETO VIGAS, PILARES, LAJES E FUNDAÇÕES, UTILIZANDO AÇO CA-50 DE 8,0 MM - MONTAGEM. AF_06/2022","unidade":"KG","quantidade":2800,"custoUnitario":13.13,"custoMO":0,"custoMAT":0,"custoEQ":0},{"id":"itm_mtt4gwo4k89krs","origem":"PROPRIO","baseFonte":null,"codigo":"—","descricao":"Forma de madeira para estrutura (3 reaproveitamentos)","unidade":"m2","quantidade":310,"custoUnitario":62,"custoMO":28,"custoMAT":34,"custoEQ":0}]},{"id":"eta_mtt4gwo4hhqaa5","codigo":"4.0","nome":"Alvenaria e Vedações","itens":[{"id":"itm_mtt4gwo4o1t0r1","origem":"SINAPI","baseFonte":"SINAPI","codigo":"103355","descricao":"ALVENARIA DE VEDAÇÃO DE BLOCOS CERÂMICOS FURADOS NA HORIZONTAL DE 11,5X14X24 CM (ESPESSURA 11,5 CM) E ARGAMASSA DE ASSENTAMENTO COM PREPARO MANUAL. AF_12/2021","unidade":"M2","quantidade":420,"custoUnitario":106.08,"custoMO":0,"custoMAT":0,"custoEQ":0},{"id":"itm_mtt4gwo44kr8qx","origem":"SINAPI","baseFonte":"SINAPI","codigo":"87905","descricao":"CHAPISCO APLICADO EM ALVENARIA (COM PRESENÇA DE VÃOS) E ESTRUTURAS DE CONCRETO DE FACHADA, COM COLHER DE PEDREIRO. ARGAMASSA TRAÇO 1:3 COM PREPARO EM BETONEIRA 400L. AF_10/2022","unidade":"M2","quantidade":780,"custoUnitario":9.57,"custoMO":0,"custoMAT":0,"custoEQ":0},{"id":"itm_mtt4gwo4bi4k7v","origem":"SINAPI","baseFonte":"SINAPI","codigo":"87775","descricao":"EMBOÇO OU MASSA ÚNICA EM ARGAMASSA TRAÇO 1:2:8, PREPARO MECÂNICO COM BETONEIRA 400 L, APLICADA MANUALMENTE EM PANOS DE FACHADA COM PRESENÇA DE VÃOS, ESPESSURA DE 25 MM. AF_08/2022","unidade":"M2","quantidade":780,"custoUnitario":64.69,"custoMO":0,"custoMAT":0,"custoEQ":0}]},{"id":"eta_mtt4gwo4pz5xkr","codigo":"5.0","nome":"Instalações","itens":[{"id":"itm_mtt4gwo4iesjzu","origem":"PROPRIO","baseFonte":null,"codigo":"—","descricao":"Instalações elétricas — ponto completo (tubulação+fiação+dispositivo)","unidade":"un","quantidade":96,"custoUnitario":142,"custoMO":68,"custoMAT":74,"custoEQ":0},{"id":"itm_mtt4gwo4noezj3","origem":"PROPRIO","baseFonte":null,"codigo":"—","descricao":"Instalações hidrossanitárias — ponto de água/esgoto completo","unidade":"un","quantidade":54,"custoUnitario":178,"custoMO":82,"custoMAT":96,"custoEQ":0}]},{"id":"eta_mtt4gwo4z3alrh","codigo":"6.0","nome":"Acabamentos","itens":[{"id":"itm_mtt4gwo4o5j204","origem":"SINAPI","baseFonte":"SINAPI","codigo":"87263","descricao":"REVESTIMENTO CERÂMICO PARA PISO COM PLACAS TIPO PORCELANATO DE DIMENSÕES 60X60 CM APLICADA EM AMBIENTES DE ÁREA MAIOR QUE 10 M². AF_02/2023_PE","unidade":"M2","quantidade":180,"custoUnitario":115.99,"custoMO":0,"custoMAT":0,"custoEQ":0},{"id":"itm_mtt4gwo4h35kp2","origem":"SINAPI","baseFonte":"SINAPI","codigo":"88489","descricao":"PINTURA LÁTEX ACRÍLICA PREMIUM, APLICAÇÃO MANUAL EM PAREDES, DUAS DEMÃOS. AF_04/2023","unidade":"M2","quantidade":920,"custoUnitario":14.91,"custoMO":0,"custoMAT":0,"custoEQ":0}]}],"criadoEm":"2026-09-08T20:28:44.259Z","atualizadoEm":"2026-09-08T20:28:44.743Z"}
